BEGIN:VCALENDAR
VERSION:2.0
CALSCALE:GREGORIAN
PRODID:-//MyApp//Calendar 1.0//EN
BEGIN:VEVENT
METHOD:PUBLISH
UID:51762@regionalniportaly.cz
DTSTAMP:20260422T061527Z
DTSTART;VALUE=DATE:20250308
DTEND;VALUE=DATE:20250309
SUMMARY:Vzpomínková MDŽ párty 18+
DESCRIPTION:V Zaječí v letech 2002 až 2012 byl klub\, který byl bezpochyby několik let nejnavštěvovanějším v kraji. To znamená\, že jsme se stali pro střední generace top klubem\, kde prožili své teenagerské období a nejlepší diskotéky.Tento klub se jmenoval Disco Brooklyn.Každy víkend jsme měli obrovskou návštěvnost a víme\, že ne jeden z Vás si tam prožil své nejkrásnější chvilky a první lásky.Pamatujeme si akce\, kdy jsme měli řadu až ven a nebyla to jen jedna akce.V době kdy nebyl pořádně internet a sociální sítě jsme dokázali tak zvaně nemožné - několik let jsme zde byli pro Vás.Během 10 let jsme přivítali hosty jako: Ben Cristovao\, Verona\, Leoš Mareš\, Michal David\, Shaun Baker\, Peter Nagy\, Maduar\, Holki\, Sagvan Tofi\, Lukáš VaculíkDiskotéka BROOKLYN byla skloňována skoro v každé domácnosti a v každé obci Jižní Moravy.Letos je to 23 let od otevření Brooklynu a 8 let od poslední vzpomínkové párty. Myslím si\, že je na čase\, aby jsme se opět všichni po letech potkali na této diskotéce a užili si párty jako kdysi před léty.Zveme všechny\, kteří nás v minulosti navštěvovali a mají citovou a vzpomínkovou vazbu k Brooklynu na tuto Mega párty.Takže všichni sraz v Sobotu 8.3.2025 na Brooklynu v Zaječí.Vstup 18+Hity současné i minulé Vám namíchá Dj JOKERKu příležitosti MDŽ obdarujeme prvních 100 žen koktejlem od našich barmanů.Těšíme se na Vás věrný team clubu Brooklyn&nbsp\;
LOCATION:Zaječí
END:VEVENT
END:VCALENDAR