BEGIN:VCALENDAR
VERSION:2.0
CALSCALE:GREGORIAN
PRODID:-//MyApp//Calendar 1.0//EN
BEGIN:VEVENT
METHOD:PUBLISH
UID:51592@regionalniportaly.cz
DTSTAMP:20260422T041547Z
DTSTART;VALUE=DATE:20250621
DTEND;VALUE=DATE:20250622
SUMMARY:ŠVANCI SHOW - JÁ SU JÁ
DESCRIPTION:Show "JÁ SU JÁ" exkluzivní tour po&nbsp\;České republice.Čekají vás historky o mém životě\, prostor na otázky na tělo\, autogramiáda\, focení a mnoho dalšího.Jak moc dobře mě znáš? Co jsem ještě neřekl o Survivoru? Jaká byla moje profesionální kariéra fotbalisty?Nejen to se dozvíš ve zbrusu nové zábavné show "JÁ SU JÁ".Přijď se podívat a užít si legraci\, popovídat si s legendou fotbalu\, moderátorem\, bavičem a dát si třeba fotku\, nebo si nechat cokoliv podepsat.&nbsp\;Akce pod širým nebem\, v případě hodně špatného počasí přesunuta do vnitřních prostor.
LOCATION:Těšany
END:VEVENT
END:VCALENDAR