BEGIN:VCALENDAR
VERSION:2.0
CALSCALE:GREGORIAN
PRODID:-//MyApp//Calendar 1.0//EN
BEGIN:VEVENT
METHOD:PUBLISH
UID:51426@regionalniportaly.cz
DTSTAMP:20260422T061053Z
DTSTART;VALUE=DATE:20250406
DTEND;VALUE=DATE:20250407
SUMMARY:O bojácném Floriánkovi
DESCRIPTION:Hrdinou pohádky je mladý hrnčíř Florián Plucárek\, jehož bázlivost a ustrašenost je široko daleko pověstná. Chce-li však získat za ženu svou milou Rozalku\, musí se pochlapit a zbavit hospodu jejího tatíka hrozitánských strašidel. A nejen to. Vypořádat se musí také s lidskou zákeřností\, závistí a nedůvěrou. Překoná svůj strach a vyhraje? Nebo mu Rozálku odvede Franta Nebojsa?\nÚčinkuje divadelní soubor Bezkamen Uherčice.\nDélka představení 80 minut + přestávka. Vstupné 120 Kč.
LOCATION:Hustopeče
END:VEVENT
END:VCALENDAR