BEGIN:VCALENDAR
VERSION:2.0
CALSCALE:GREGORIAN
PRODID:-//MyApp//Calendar 1.0//EN
BEGIN:VEVENT
METHOD:PUBLISH
UID:51425@regionalniportaly.cz
DTSTAMP:20260422T061128Z
DTSTART;VALUE=DATE:20250326
DTEND;VALUE=DATE:20250327
SUMMARY:Pamír Trail
DESCRIPTION:Dvě holky a 1 330 km dlouhá trasa napříč Tádžikistánem. Co obnáší projít jako první na světě neexistující trasu\, dnes známou jako Pamír Trail? Co všechno se dá zažít během 69 dní putování divokou přírodou? Jak si holky poradily s nástrahami nezmapovaného trailu\, složitým zásobováním i rozmary vysokých hor? Bály se medvědů\, vlků\, pum či tygrů? Jaké byly nejhorší a nejlepší zážitky? A co důležitého jim cesta dala?Přijďte si vyslechnout spoustu nezapomenutelných zážitků a nechte se vtáhnout do výjimečného dobrodružství\, které možná změní i váš pohled na situace v běžném životě.\nVstupné 180 Kč v předprodeji\, 200 Kč na místě.
LOCATION:Hustopeče
END:VEVENT
END:VCALENDAR