BEGIN:VCALENDAR
VERSION:2.0
CALSCALE:GREGORIAN
PRODID:-//MyApp//Calendar 1.0//EN
BEGIN:VEVENT
METHOD:PUBLISH
UID:51424@regionalniportaly.cz
DTSTAMP:20260422T041713Z
DTSTART;VALUE=DATE:20250316
DTEND;VALUE=DATE:20250317
SUMMARY:O princezně\, Luciášovi a makových buchtách
DESCRIPTION:Klasická\, romantická pohádka pro děti od 3 do 11 let vypráví o princezně Albertině\, která by se ráda vdávala\, o čertovi Luciášovi\, vrchním správci pekelného nepořádku\, který si hledá nevěstu a o tom\, co se všechno stane\, když se spolu setkají. Zvítězí peklo a nebo láska?\n \nVýraznou součástí inscenace jsou romantické\, téměř muzikálové melodie písniček. \nÚčinkuje CzuDivadlo\, vstupné 150 Kč.
LOCATION:Hustopeče
END:VEVENT
END:VCALENDAR