BEGIN:VCALENDAR
VERSION:2.0
CALSCALE:GREGORIAN
PRODID:-//MyApp//Calendar 1.0//EN
BEGIN:VEVENT
METHOD:PUBLISH
UID:50622@regionalniportaly.cz
DTSTAMP:20260422T041820Z
DTSTART;VALUE=DATE:20250305
DTEND;VALUE=DATE:20250306
SUMMARY:Přepište dějiny Hustopeče!
DESCRIPTION:Zveme vás na jedinečnou besedu s historiky Michalem Stehlíkem a Martinem Gromanem\, autory oblíbeného podcastu Přepište dějiny. Tentokrát se pánové zaměří na dějiny Hustopečska a také na rodinu Masarykových\, která je s tímto krajem úzce spjata.\nPřijďte si poslechnout zajímavé historické souvislosti\, podiskutovat a užít si příjemný večer ve společnosti zkušených historiků. Těšíme se na vás!\nVstupné: 200 Kč v předprodeji / 220 Kč na místě\nPořadatelem této akce je MonoSound s.r.o. Hustopeče.
LOCATION:Hustopeče
END:VEVENT
END:VCALENDAR