BEGIN:VCALENDAR
VERSION:2.0
CALSCALE:GREGORIAN
PRODID:-//MyApp//Calendar 1.0//EN
BEGIN:VEVENT
METHOD:PUBLISH
UID:50621@regionalniportaly.cz
DTSTAMP:20260422T063420Z
DTSTART;VALUE=DATE:20250202
DTEND;VALUE=DATE:20250203
SUMMARY:LiStOVáNí.cz: Historky z Tinderu 2
DESCRIPTION:LiStOVáNí je zpátky na Tinderu! Protože je tam stále Lucie Macháčková\, která napsala životní pokračování svých Historek z Tinderu. Účinkují Pavla Dostálová a Jakub Koudela.\nVstupné 200 Kč.
LOCATION:Hustopeče
END:VEVENT
END:VCALENDAR