BEGIN:VCALENDAR
VERSION:2.0
CALSCALE:GREGORIAN
PRODID:-//MyApp//Calendar 1.0//EN
BEGIN:VEVENT
METHOD:PUBLISH
UID:50293@regionalniportaly.cz
DTSTAMP:20260422T062043Z
DTSTART;VALUE=DATE:20250412
DTEND;VALUE=DATE:20250413
SUMMARY:Majk Spirit & Dj Grimaso
DESCRIPTION:Majk Spirit a Dj Grimaso vystoupí v Retro Clubu s nezaměnitelnou show. Pojďte si dát jeho nejnovější tracky\, ale také největší hity kariéry naživo!&nbsp\;&nbsp\;Za mixem DJ LEEMAC&nbsp\;Čtyři bary&nbsp\;Koktejly&nbsp\;Stylová Glo lounge&nbsp\;Profesionální party fotograf
LOCATION:Zaječí
END:VEVENT
END:VCALENDAR