BEGIN:VCALENDAR
VERSION:2.0
CALSCALE:GREGORIAN
PRODID:-//MyApp//Calendar 1.0//EN
BEGIN:VEVENT
METHOD:PUBLISH
UID:50291@regionalniportaly.cz
DTSTAMP:20260422T061752Z
DTSTART;VALUE=DATE:20250328
DTEND;VALUE=DATE:20250329
SUMMARY:LUNETIC
DESCRIPTION:Česká hudební skupina LUNETIC má namířeno do Retro Clubu v Zaječí!..&nbsp\;Přijďte zatrsat na legendu\, jejíž fotky zdobily snad každý pokojíček a zažijte znovu show\, na kterých děvčata v 90. letech hromadně omdlévala&nbsp\;. Už teď se můžete těšit na nezapomenutelné hity "Máma"\, "Dotyky"\, "Ať je hudba tvůj lék" a spoustu dalších…&nbsp\;Za mixem DJ LUKE&nbsp\;Největší hity 80's\, 90's a milénia&nbsp\;Písničky na přání&nbsp\;Čtyři bary&nbsp\;Profesionální party fotograf
LOCATION:Zaječí
END:VEVENT
END:VCALENDAR