BEGIN:VCALENDAR
VERSION:2.0
CALSCALE:GREGORIAN
PRODID:-//MyApp//Calendar 1.0//EN
BEGIN:VEVENT
METHOD:PUBLISH
UID:50288@regionalniportaly.cz
DTSTAMP:20260422T022917Z
DTSTART;VALUE=DATE:20250718
DTEND;VALUE=DATE:20250719
SUMMARY:ROHONY
DESCRIPTION:Největší tuzemská hudební kometa rapper Rohony míří do Retro Clubu v Zaječí!.. Pojďte si si užít jeho energickou show s největšími hity "Letná"\, "Hřiště 360"\, "Cassiopea" a mnoho dalších živě!
LOCATION:Zaječí
END:VEVENT
END:VCALENDAR