BEGIN:VCALENDAR
VERSION:2.0
CALSCALE:GREGORIAN
PRODID:-//MyApp//Calendar 1.0//EN
BEGIN:VEVENT
METHOD:PUBLISH
UID:50286@regionalniportaly.cz
DTSTAMP:20260422T042043Z
DTSTART;VALUE=DATE:20250228
DTEND;VALUE=DATE:20250301
SUMMARY:MUMULAND PARTY a Petr Kotvald
DESCRIPTION:Zažijte jedinečnou MUMULAND PARTY v Retro Clubu v Zaječí. Petr Kotvald a jeho nezapomenutelné hity ŽIVĚ. Pojďte si ho užít s námi! ★&nbsp\;Za mixem DJ LUKE&nbsp\;Největší hity 80's\, 90's a milénia&nbsp\;Písničky na přání&nbsp\;Čtyři bary&nbsp\;Profesionální party fotograf
LOCATION:Zaječí
END:VEVENT
END:VCALENDAR