BEGIN:VCALENDAR
VERSION:2.0
CALSCALE:GREGORIAN
PRODID:-//MyApp//Calendar 1.0//EN
BEGIN:VEVENT
METHOD:PUBLISH
UID:50015@regionalniportaly.cz
DTSTAMP:20260422T061456Z
DTSTART;VALUE=DATE:20250405
DTEND;VALUE=DATE:20250406
SUMMARY:Jarní otevřené sklepy Strachotín 2025
DESCRIPTION:Navštivte malebnou sklepní uličku s nejkrásnějším výhledem na Pálavu. V ceně vstupného je konzumace degustačního množství&nbsp\;vín u všech vinařů a kupóny pro nákup vína sebou.&nbsp\;Ochutnávka vín přímo u vinařů. Sklepy budou otevřeny od 11.00 do 19.00 hod.
LOCATION:Strachotín
END:VEVENT
END:VCALENDAR