BEGIN:VCALENDAR
VERSION:2.0
CALSCALE:GREGORIAN
PRODID:-//MyApp//Calendar 1.0//EN
BEGIN:VEVENT
METHOD:PUBLISH
UID:49925@regionalniportaly.cz
DTSTAMP:20260422T075705Z
DTSTART;VALUE=DATE:20250214
DTEND;VALUE=DATE:20250215
SUMMARY:Nosislove Ples - VYPRODÁNO
DESCRIPTION:VYPRODÁNO. Omlouváme se\, vstupenky na místě nejsou k dispozic.\nSrdečně vás zveme na NOSISLOVE PLES konaný 14.února od 19:00 v KC Nosislav. K tanci a poslechu zahraje kapela DREAMS band. Můžete se těšit na tombolu\, cukrářské speciality\, míchané drinky\, taneční vystoupení\, atd...\nVstupné 300kč\, předprodej vstupenek a rezervace stolů p.Mrkvica 606 194 995\nDresscode Společenský oděv \nTěšíme se na vás 
LOCATION:Nosislav
END:VEVENT
END:VCALENDAR