BEGIN:VCALENDAR
VERSION:2.0
CALSCALE:GREGORIAN
PRODID:-//MyApp//Calendar 1.0//EN
BEGIN:VEVENT
METHOD:PUBLISH
UID:49745@regionalniportaly.cz
DTSTAMP:20260422T041557Z
DTSTART;VALUE=DATE:20250426
DTEND;VALUE=DATE:20250427
SUMMARY:Den otevřených sklepů v Pavlově - jarní termín 2025
DESCRIPTION:Zveme milovníky pálavských vín na tradiční „Den otevřených sklepů v Pavlově“&nbsp\;– sobota\, 26. dubna 2025.Cena obsahuje:400 Kč vstupné na akci (sklenička\, kontrolní páska\, katalog\, volná degustace ve sklepích účastnících se akce)\; plus600 Kč – víceúčelové poukazy na nákup vín aj. - pouze ve sklepích\, účastnících se akce\,celkem tedy 1000 Kč.Kontrola on-line vstupenek a výdej identifikačních pásek\, skleniček\, katalogů a dalších bude probíhat v&nbsp\;sobotu\, 26.&nbsp\;dubna 2024\, od&nbsp\;10:00 do&nbsp\;15:00 a&nbsp\;také v&nbsp\;pátek\, 25.&nbsp\;dubna 2025\, od&nbsp\;18.00 do&nbsp\;20.00. Páteční termín registrace platí zejména pro ubytované v&nbsp\;Pavlově\, kteří si mohou v pátek večer v&nbsp\;klidu registrovat vstupenku a&nbsp\;v&nbsp\;sobotu ráno již nemusí na registrační místo a&nbsp\;mohou jít přímo do sklepů.On-line vstupenka se elektronicky odbaví a na základě toho obdrží návštěvník skleničku\, kontrolní pásku\, katalog a viceúčelové poukazy.Registrace bude probíhat na registračním místě&nbsp\;– dům „Na kině“&nbsp\;– vinařství Zatloukal\, Na Návsi 74\, Pavlov. Pozor – změna oproti&nbsp\; minulým rokům. Zde bude k dispozici také WC a občerstvení. Je možný také průchod přes zahradu na ulici Klentnická.Sklepy budou otevřeny v&nbsp\;rámci této akce v&nbsp\;sobotu\, 26.&nbsp\;dubna 2025\, od&nbsp\;11:00 do&nbsp\;19:00.Seznam sklepů a další informace naleznete našem webu www.vinaripavlov.cz.
LOCATION:Pavlov
END:VEVENT
END:VCALENDAR