BEGIN:VCALENDAR
VERSION:2.0
CALSCALE:GREGORIAN
PRODID:-//MyApp//Calendar 1.0//EN
BEGIN:VEVENT
METHOD:PUBLISH
UID:48892@regionalniportaly.cz
DTSTAMP:20260422T061023Z
DTSTART;VALUE=DATE:20250109
DTEND;VALUE=DATE:20250110
SUMMARY:Jak na (dez)informace kolem nás?
DESCRIPTION:Jak žít v digitální džungli informací a dezinformací?&nbsp\;Fakta a manipulace: Můžeme si vytvářet svět na míru vlastním představám?&nbsp\;Proč je naše společnost stále více rozdělená a jak s tím souvisí dezinformace?A jak zabránit tomu\, abychom se vydali cestou zemí (Maďarsko\, Slovensko)\, kde dezinformace reálně ničí demokracii?&nbsp\;Přijďte diskutovat na besedu s předním českým odborníkem na vzdělávání a informační gramotnost&nbsp\;Bobem Kartousem. Společně se podíváme na to\, co jsou to dezinformace\, jak se bránit jejich vlivu a proč je to tak důležité pro naši budoucnost.Kdy:&nbsp\;9. ledna 2025 od 17:00Kde:&nbsp\;Sál místního kina\, Hustopeče&nbsp\;
LOCATION:Hustopeče
END:VEVENT
END:VCALENDAR