BEGIN:VCALENDAR
VERSION:2.0
CALSCALE:GREGORIAN
PRODID:-//MyApp//Calendar 1.0//EN
BEGIN:VEVENT
METHOD:PUBLISH
UID:48777@regionalniportaly.cz
DTSTAMP:20260422T041853Z
DTSTART;VALUE=DATE:20250802
DTEND;VALUE=DATE:20250803
SUMMARY:INÉ KAFE - Open Air Rakvice - Radio JIH
DESCRIPTION:&nbsp\;Vstupenky na místě k dostání pouze online - výhradně přes&nbsp\;smsticket.czI.&nbsp\; &nbsp\; &nbsp\;&nbsp\;Vlna&nbsp\; &nbsp\;VYPRODANÁ&nbsp\;!II.&nbsp\;&nbsp\;&nbsp\;&nbsp\; Vlna&nbsp\; &nbsp\;PROBÍHÁ ...III. &nbsp\; &nbsp\;Vlna&nbsp\;&nbsp\;&nbsp\;PRODEJ NA MÍSTĚ (Online-smsticket.cz) - 2.8. 2025 - 730\,-Počet vstupenek je omezen!Slovenská punk-rocková&nbsp\;či pop-punková kapela z Bratislavy Iné Kafe\, míří v rámci&nbsp\;celoročnej INEKAFE - 30 ROKOV TOUR&nbsp\;2025&nbsp\;do Rakvic !Hodina a půl našlapaných\, známých hitů jako jsou: Růžová záhrada\, Prečo je to tak\, Ráno\, Spomienky na budúcnosť a další.&nbsp\;OPEN&nbsp\; &nbsp\; &nbsp\; &nbsp\; -&nbsp\;&nbsp\;v 17 hodin -&nbsp\;JIHPÁRTY RÁDIA JIH&nbsp\;KONCERT - ve 21 hodin&nbsp\;(90minut!)Po koncertě pokračuje&nbsp\;JIHPÁRTY RÁDIA JIH !Borkova Show -&nbsp\;https://www.instagram.com/borkova_show/?hl=cs
LOCATION:Rakvice
END:VEVENT
END:VCALENDAR