BEGIN:VCALENDAR
VERSION:2.0
CALSCALE:GREGORIAN
PRODID:-//MyApp//Calendar 1.0//EN
BEGIN:VEVENT
METHOD:PUBLISH
UID:48298@regionalniportaly.cz
DTSTAMP:20260422T061138Z
DTSTART;VALUE=DATE:20250424
DTEND;VALUE=DATE:20250425
SUMMARY:Rodinná porada
DESCRIPTION:Originální\, poněkud černá\, francouzská komedie. V každé rodině existují nějaké problémy a je celkem běžné\, že to někdy může i dost skřípat. Tři dospělé děti řeší neshody se svou matkou velice svérázným způsobem – při společné večeři se rozhodnou ne zcela ideální vztahy vyřešit jednou provždy. Večeře se tak změní v časovanou bombu a koktejl\, který se podává\, může být pro někoho poslední..\nHrají: Bára Štěpánová / Pavlína Mourková\, Daniel Bambas / Petr Florián\, Miluše Bittnerová / Natálie Řehořová\, Václav Werner Kraus.
LOCATION:Hustopeče
END:VEVENT
END:VCALENDAR