BEGIN:VCALENDAR
VERSION:2.0
CALSCALE:GREGORIAN
PRODID:-//MyApp//Calendar 1.0//EN
BEGIN:VEVENT
METHOD:PUBLISH
UID:48259@regionalniportaly.cz
DTSTAMP:20260422T075051Z
DTSTART;VALUE=DATE:20250201
DTEND;VALUE=DATE:20250202
SUMMARY:1. Fotbalový ples FC Hustopeče
DESCRIPTION:Fotbalový klub FC Hustopeče Vás všechny i nefotbalisty zve na vůbec svůj&nbsp\;první fotbalový ples. Věříme\, že se všichni potkáme v příjemné atmosféře v kulturním domě v Hustopečích. K dobré náladě Vám bude hrát skupina Pool Litters \, do rána poté DJ.&nbsp\;Včetně skvělé muziky se můžete těšit na dobré občerstvení\, dobré pití a skvělý zábavný program. Budeme rádi\, když budete součástí naší nové tradice\, kdy se potkáme tak nejen na hřišti\, ale ukážete i své taneční dovednosti.&nbsp\;Samozřejmostí je bohataá tombola.&nbsp\;&nbsp\;
LOCATION:Hustopeče
END:VEVENT
END:VCALENDAR