BEGIN:VCALENDAR
VERSION:2.0
CALSCALE:GREGORIAN
PRODID:-//MyApp//Calendar 1.0//EN
BEGIN:VEVENT
METHOD:PUBLISH
UID:47983@regionalniportaly.cz
DTSTAMP:20260422T061332Z
DTSTART;VALUE=DATE:20250309
DTEND;VALUE=DATE:20250310
SUMMARY:Švanci - vyprodáno
DESCRIPTION:Show JÁ SU JÁ exkluzivně ve speciální limitované tour po České republice. Čekají vás historky o životě\, prostor na otázky na tělo\, autogramiáda\, focení a mnoho dalšího.\nJak moc dobře mě znáš? Co jsem ještě neřekl o Survivoru? Jaká byla moje profesionální kariéra fotbalisty? Nejen to se dozvíš ve zbrusu nové zábavné show JÁ SU JÁ.\nPřijď se podívat a užít si legraci\, popovídat si s legendou fotbalu\, moderátorem\, bavičem a dát si třeba fotku\, nebo si nechat cokoliv podepsat.\nVstupné 450 Kč.
LOCATION:Hustopeče
END:VEVENT
END:VCALENDAR