BEGIN:VCALENDAR
VERSION:2.0
CALSCALE:GREGORIAN
PRODID:-//MyApp//Calendar 1.0//EN
BEGIN:VEVENT
METHOD:PUBLISH
UID:47982@regionalniportaly.cz
DTSTAMP:20260422T041703Z
DTSTART;VALUE=DATE:20250224
DTEND;VALUE=DATE:20250225
SUMMARY:Jiří Kolbaba - vyprodáno
DESCRIPTION:Diashow známého fotografa a cestovatele.Navštívit Zemi vycházejícího slunce\, je snem mnohých cestovatelů. Mám rád tajemnou historii\, i dech beroucí současnost. Znovu a znovu mě překvapuje smysl pro pořádek\, pokora a slušnost\, stejně jako pracovitost a technická vyspělost současné japonské společnosti. \nVstupné v předprodeji 280 Kč\, na místě 350 Kč.
LOCATION:Hustopeče
END:VEVENT
END:VCALENDAR