BEGIN:VCALENDAR
VERSION:2.0
CALSCALE:GREGORIAN
PRODID:-//MyApp//Calendar 1.0//EN
BEGIN:VEVENT
METHOD:PUBLISH
UID:47981@regionalniportaly.cz
DTSTAMP:20260422T061537Z
DTSTART;VALUE=DATE:20250126
DTEND;VALUE=DATE:20250127
SUMMARY:Duchem proti své vůli
DESCRIPTION:Duchařská detektivní bláznivá komedie.Bylo úmrtí slavné herečky přirozené\, nebo to byla vražda? A straší její duch opravdu\, nebo jen nevěrnému manželovi straší ve věži? A přibude ještě další oběť? A bude zlo potrestáno\, jako v každé dobré pohádce?\nOdpovědi se dozvíte v nové\, tentokrát duchařské detektivní bláznivé komedii Fanny agentury − opět z pera Jakuba Zindulky.\nHerecké obsazení: Ivana Jirešová\, Dana Homolová\, Jaromír Nosek a Jakub Zindulka.\nDélka představení je100 minut s přestávkou.\nVstupné 480 Kč.
LOCATION:Hustopeče
END:VEVENT
END:VCALENDAR