BEGIN:VCALENDAR
VERSION:2.0
CALSCALE:GREGORIAN
PRODID:-//MyApp//Calendar 1.0//EN
BEGIN:VEVENT
METHOD:PUBLISH
UID:47979@regionalniportaly.cz
DTSTAMP:20260422T074511Z
DTSTART;VALUE=DATE:20241222
DTEND;VALUE=DATE:20241223
SUMMARY:Adventní koncert Blue Cimbal
DESCRIPTION:Ve speciálním adventním programu představí kapela písně z hlubin věků až po současnost. Speciální aranže pro originální nástrojové obsazení dají vyniknout novému kouzlu hitů středověku\, renesanční harmonii\, baroknímu vzletu až po písně lidové a velké světové songy\, které jakoby byly napsány pro cimbál. A jako vždy\, s touto kapelou jste vždy ve hře i ve zpěvu! \nVstupné 250 Kč (studenti a senioři 150 Kč).
LOCATION:Hustopeče
END:VEVENT
END:VCALENDAR