BEGIN:VCALENDAR
VERSION:2.0
CALSCALE:GREGORIAN
PRODID:-//MyApp//Calendar 1.0//EN
BEGIN:VEVENT
METHOD:PUBLISH
UID:47978@regionalniportaly.cz
DTSTAMP:20260422T075230Z
DTSTART;VALUE=DATE:20241215
DTEND;VALUE=DATE:20241216
SUMMARY:Adventní koncert Husak Quartet
DESCRIPTION:Jsme multižánrové kvarteto. Naše smyčce rozezní akord klasický i populární\, jazzový i folklórní. Milujeme improvizace. Nechybí ani hudba filmová či duchovní. Začínáme většinou trochu vážněji\, postupně však posluchače pořádně rozpohybujeme a nakonec přijde scénická hudba z oboru jemné hudební satiry. To už ale hrajete spolu s námi.\nVstupné 250 Kč (studenti a senioři 150 Kč).
LOCATION:Hustopeče
END:VEVENT
END:VCALENDAR