BEGIN:VCALENDAR
VERSION:2.0
CALSCALE:GREGORIAN
PRODID:-//MyApp//Calendar 1.0//EN
BEGIN:VEVENT
METHOD:PUBLISH
UID:47977@regionalniportaly.cz
DTSTAMP:20260422T061257Z
DTSTART;VALUE=DATE:20241208
DTEND;VALUE=DATE:20241209
SUMMARY:Adventní koncert Martin Láska & Band
DESCRIPTION:Užijte si spolu s hudební skupinou Martin Láska &amp\; Band adventní koncert ve kterém zazní vánoční písničky od různých interpretů\, ale taktéž lidové písně\, které zazpívají spolu s publikem. Nebudou samozřejmě chybět i tradiční Vánoční koledy. Tohle všechno si můžete užít v podání akustických nástrojů jako je akordeon\, kytara\, cajon\, irská flétna\, violoncello\, současně se zpívaným trojhlasem.\nVstupné 150 Kč (studenti a senioři 100 Kč).
LOCATION:Hustopeče
END:VEVENT
END:VCALENDAR