BEGIN:VCALENDAR
VERSION:2.0
CALSCALE:GREGORIAN
PRODID:-//MyApp//Calendar 1.0//EN
BEGIN:VEVENT
METHOD:PUBLISH
UID:47976@regionalniportaly.cz
DTSTAMP:20260422T061316Z
DTSTART;VALUE=DATE:20241206
DTEND;VALUE=DATE:20241207
SUMMARY:Ukradený betlém
DESCRIPTION:V našem trochu netradičním představení si vánoční příběh vyposlechnou dva zloději\, kteří se v době vánoční rozhodli vyloupit kostel….\nVe hře Petra Tomšů\, jak již je u tohoto autora zvykem\, nechybí pochopitelně humor\, ale ani trocha toho zamyšlení.\nÚčinkuje Divadelní ochotnický spolek Kadet Starovičky.
LOCATION:Hustopeče
END:VEVENT
END:VCALENDAR