BEGIN:VCALENDAR
VERSION:2.0
CALSCALE:GREGORIAN
PRODID:-//MyApp//Calendar 1.0//EN
BEGIN:VEVENT
METHOD:PUBLISH
UID:47651@regionalniportaly.cz
DTSTAMP:20260422T061306Z
DTSTART;VALUE=DATE:20241115
DTEND;VALUE=DATE:20241116
SUMMARY:Travesti narozeninová show Techtle Mechtle
DESCRIPTION:Techtle Mechtle revue je česká show na poli divadelní scény. V podání Techtle Mechtle se totiž vždy jedná o divadelní představení s výpravnou scénou\, více jak 80ti kostýmy. Všechna představení jsou jednou velkou komedií\, a to od začátku až do konce. Má to jen jeden háček – všechny role\, a to včetně těch dámských\, tu hrají pouze muži a ti jsou navíc k nerozeznání od skutečných žen. Pánové Lukáš\, Martin\, Nikolas a Saša společně s tanečníky Štěpánem\, Jarkem\, Sayem a Danem pro diváky tentokrát připravili nadupanou taneční show.\nSpeciální narozeninová show\, která má v roce 2024 jen 30 zastávek po celé České republice míří i do Komunitního centra Přibice. Tentokrát se jedná o představení s výběrem toho nejlepšího\, co Techtle Mechtle za poslední roky předvedly\, a to i s řadou nových čísel a vystoupení. Trochu méně divadlo\, za to ještě větší show\, než kdy jindy – více účinkujících\, více tanečních vystoupení a více kostýmů.
LOCATION:Přibice
END:VEVENT
END:VCALENDAR