BEGIN:VCALENDAR
VERSION:2.0
CALSCALE:GREGORIAN
PRODID:-//MyApp//Calendar 1.0//EN
BEGIN:VEVENT
METHOD:PUBLISH
UID:47650@regionalniportaly.cz
DTSTAMP:20260422T061344Z
DTSTART;VALUE=DATE:20241109
DTEND;VALUE=DATE:20241110
SUMMARY:Na stojáka
DESCRIPTION:Zveme Vás na Stand up comedy show NA STOJÁKA\, která se uskuteční v sobotu 9. listopadu v 19 hodin v sále komunitního centra Přibice. Těšit se můžete na interprety Petr "Nasty" Cerha\, Daniel Čech a Josef Miklík. Vstupenky v předprodeji na goout za 300\,-Kč\, na místě 350\,-.
LOCATION:Přibice
END:VEVENT
END:VCALENDAR