BEGIN:VCALENDAR
VERSION:2.0
CALSCALE:GREGORIAN
PRODID:-//MyApp//Calendar 1.0//EN
BEGIN:VEVENT
METHOD:PUBLISH
UID:47601@regionalniportaly.cz
DTSTAMP:20260422T061101Z
DTSTART;VALUE=DATE:20241130
DTEND;VALUE=DATE:20241201
SUMMARY:DJ Boris  - Klobouky u Brna
DESCRIPTION:Legendární akce DJ Boris&nbsp\;&nbsp\;znovu v Kloboukách u Brna (Sokolovna)&nbsp\;Koná se v sobotu 30. listopadu 2024 od 20:00 hod.&nbsp\;Po celou noc hity současné i minulé v originálních verzích\, které zaručeně znáte&nbsp\;Hudba různých žánrů - DISCO\, POP\, ROCK\, ČESKÉ a SLOVENSKÉ\, OSMDESÁTKY\, DEVADESÁTKY\, OLDIES...Zajištěno bohaté občerstvení včetně točeného piva a míchaných drinků.Kvalitní zvuk a světla\, laser show.Na Vaši bezpečnost bude dohlížet profesionální security služba.Otevřeno od 20:00 hod.Minimální věkový limit pro vstup: 16 letVstup na místě: 150 KčPředprodej SMS ticket:1.vlna 100 Kč2.vlna 130 Kč3.vlna 150 KčAkci pořádá: Magic Events
LOCATION:Klobouky u Brna
END:VEVENT
END:VCALENDAR