BEGIN:VCALENDAR
VERSION:2.0
CALSCALE:GREGORIAN
PRODID:-//MyApp//Calendar 1.0//EN
BEGIN:VEVENT
METHOD:PUBLISH
UID:47599@regionalniportaly.cz
DTSTAMP:20260422T061226Z
DTSTART;VALUE=DATE:20241207
DTEND;VALUE=DATE:20241208
SUMMARY:DJ Boris - Hustopeče
DESCRIPTION:Legendární akce DJ Boris&nbsp\;&nbsp\;znovu v Hustopečích v prostorách Společenského domu\, ulice Herbenova 423/4&nbsp\;Koná se v sobotu 7. prosince 2024 od 20:00 hod.&nbsp\;Po celou noc hity současné i minulé v originálních verzích\, které zaručeně znáte&nbsp\;Hudba různých žánrů - DISCO\, POP\, ROCK\, ČESKÉ a SLOVENSKÉ\, OSMDESÁTKY\, DEVADESÁTKY\, OLDIES...Zajištěno bohaté občerstvení včetně točeného piva a míchaných drinků.Kvalitní zvuk a světla\, laser show.Na Vaši bezpečnost bude dohlížet profesionální security služba&nbsp\;Otevřeno od 20:00 hod.&nbsp\;Minimální věkový limit pro vstup: 16 letVstup na místě: 150 KčPředprodej SMS ticket:1.vlna 100 Kč2.vlna 130 Kč3.vlna 150 KčAkci pořádá: Magic Events
LOCATION:Hustopeče
END:VEVENT
END:VCALENDAR