BEGIN:VCALENDAR
VERSION:2.0
CALSCALE:GREGORIAN
PRODID:-//MyApp//Calendar 1.0//EN
BEGIN:VEVENT
METHOD:PUBLISH
UID:47387@regionalniportaly.cz
DTSTAMP:20260422T061507Z
DTSTART;VALUE=DATE:20250112
DTEND;VALUE=DATE:20250113
SUMMARY:Dasha - Vyprodáno
DESCRIPTION:Dasha patří mezi zpěvačky s nezaměnitelným hlasem. Je držitelkou Ceny Thálie za roli v muzikálu Jesus Christ Superstar a vystupuje také jako sólistka Moondance Orchestra Martina Kumžáka. \nV doprovodnou své dvorní kapely Pajky Pajk Quintet Dasha zpívá své oblíbené autorské i převzaté skladby napříč mnoha žánry. Od popu a soulové hudby až k muzikálovým melodiím. Vřelý hudební zážitek spoluvytvářejí skvělí muzikanti. Martin Kumžák - piano\, Martin Lehký - basa\, Tomáš Brožek - bicí\, Pavel Plánka – perkuse\, Peter Binder - kytara.\nVstupné 550 Kč.
LOCATION:Hustopeče
END:VEVENT
END:VCALENDAR