BEGIN:VCALENDAR
VERSION:2.0
CALSCALE:GREGORIAN
PRODID:-//MyApp//Calendar 1.0//EN
BEGIN:VEVENT
METHOD:PUBLISH
UID:47386@regionalniportaly.cz
DTSTAMP:20260422T061447Z
DTSTART;VALUE=DATE:20241208
DTEND;VALUE=DATE:20241209
SUMMARY:Zimní příhody včelích medvídků
DESCRIPTION:A je to tady! Léto končí a na paloučku u čmeláčí chaloupky začíná podzim. Všechno odkvetlo a všechno padá. Čmeldové ochutnávají první sladké hrušky\, jenže neví\, že si na nich taky pochutnává nebezpečný Sršeň. \nJeště že ty hrušky padají. Vrací se vyděšení čmeldové k mamince\, která má pro ně také překvapení.\n Na oslavu posledního sluníčkového dne k nim přichází sousedé - pan Babočka\, paní Mnohonožka Božka\, pan Kvapík\, pan Cvrček\, babička Čmelinda a nesmí chybět ani Beruška. Všichni mají pro ně nějaký dárek\, aby se Čmeláčkům v zimě dobře spalo.\n A taky spí. Jenže Zima zimice je tak krutá\, že se Čmeldové probouzí uprostřed zimy\, aby si přitopili.\n Stopy ve sněhu jim nahánějí strach. Kdo jim to chodí kolem čmeláčí chaloupky? To už uvidíte sami!\n \nÚčinkuje divadlo Krapet. Vstupné 150 Kč.
LOCATION:Hustopeče
END:VEVENT
END:VCALENDAR