BEGIN:VCALENDAR
VERSION:2.0
CALSCALE:GREGORIAN
PRODID:-//MyApp//Calendar 1.0//EN
BEGIN:VEVENT
METHOD:PUBLISH
UID:47385@regionalniportaly.cz
DTSTAMP:20260422T061111Z
DTSTART;VALUE=DATE:20241122
DTEND;VALUE=DATE:20241123
SUMMARY:Snow film fest
DESCRIPTION:Mezinárodní filmový festival zimních cestovatelských a sportovních filmů.\nVíce informací a program zde.
LOCATION:Hustopeče
END:VEVENT
END:VCALENDAR