BEGIN:VCALENDAR
VERSION:2.0
CALSCALE:GREGORIAN
PRODID:-//MyApp//Calendar 1.0//EN
BEGIN:VEVENT
METHOD:PUBLISH
UID:47384@regionalniportaly.cz
DTSTAMP:20260422T061032Z
DTSTART;VALUE=DATE:20241121
DTEND;VALUE=DATE:20241122
SUMMARY:LiStOVáNí: Vraždi všímavě
DESCRIPTION:Jak vám může kurz mindfulness změnit život? Třeba vraždou! Právník Björn Diemel je ve své profesi třída\, ovšem takový úspěch není zadarmo - den má příliš málo hodin\, nedokáže vypnout\, jeho žena Katharina mu leze na nervy a svoji dceru téměř nevidí. Jeho poslední zoufalý krok je kurz s koučem mindfulness neboli všímavosti. Po několika sezeních zjistí\, že mu všímavost opravdu pomáhá dostat život pod kontrolu. Jen to má jeden háček - Björnův klient podezřelý například z daňových úniků\, zpronevěr či ublížení na zdraví\, se s poklidným životním stylem příliš neslučuje. A proto je třeba začít vraždit. S láskou a bez jakéhokoli hodnocení. Prostě všímavě.\nÚčinkují a alternují se: Pavel Oubram\, Tomáš Drápela a Jakub Koudela.
LOCATION:Hustopeče
END:VEVENT
END:VCALENDAR