BEGIN:VCALENDAR
VERSION:2.0
CALSCALE:GREGORIAN
PRODID:-//MyApp//Calendar 1.0//EN
BEGIN:VEVENT
METHOD:PUBLISH
UID:47383@regionalniportaly.cz
DTSTAMP:20260422T074805Z
DTSTART;VALUE=DATE:20241108
DTEND;VALUE=DATE:20241110
SUMMARY:Šmardovo sousedské divadlo
DESCRIPTION:Nesoutěžní přehlídka amatérských divadelních souborů.Program:\n\npátek 8. 11. 19.30 Dámská šatna - DS bratří Mrštíků Boleradice\nsobota 9. 11. 10.00 Kocourek mořeplavec - Divadlo Strom\nneděle 10. 11. 19. 30 Krvavá Henrietta - Divadlo Stodola\n
LOCATION:Hustopeče
END:VEVENT
END:VCALENDAR