BEGIN:VCALENDAR
VERSION:2.0
CALSCALE:GREGORIAN
PRODID:-//MyApp//Calendar 1.0//EN
BEGIN:VEVENT
METHOD:PUBLISH
UID:47382@regionalniportaly.cz
DTSTAMP:20260422T061352Z
DTSTART;VALUE=DATE:20241026
DTEND;VALUE=DATE:20241030
SUMMARY:Disney princezny v kině
DESCRIPTION:Program:\n\nsobota 26. 10. 15.00 Aladin (1992)\nneděle 27. 10. 15.00 Kráska a zvíře (1991)\npondělí 28. 10. 15.00 Rebelka (2012)\núterý 29. 10. 15.00 Malá mořská víla (1989)\nstředa 30. 10. 15.00 Raya a drak (2021)\n
LOCATION:Hustopeče
END:VEVENT
END:VCALENDAR