BEGIN:VCALENDAR
VERSION:2.0
CALSCALE:GREGORIAN
PRODID:-//MyApp//Calendar 1.0//EN
BEGIN:VEVENT
METHOD:PUBLISH
UID:46482@regionalniportaly.cz
DTSTAMP:20260422T081258Z
DTSTART;VALUE=DATE:20241129
DTEND;VALUE=DATE:20241130
SUMMARY:Kali & Peter Pann
DESCRIPTION:Zveme vás na skvělou show Kaliho a Peter Panna v Retro Clubu v Zaječí. Pojďte si vychutnat jeho největší hity naživo!..&nbsp\;&nbsp\;Za mixem Dj Luke
LOCATION:Zaječí
END:VEVENT
END:VCALENDAR