BEGIN:VCALENDAR
VERSION:2.0
CALSCALE:GREGORIAN
PRODID:-//MyApp//Calendar 1.0//EN
BEGIN:VEVENT
METHOD:PUBLISH
UID:46028@regionalniportaly.cz
DTSTAMP:20260422T061418Z
DTSTART;VALUE=DATE:20241128
DTEND;VALUE=DATE:20241129
SUMMARY:7 pádů Honzy Dědka
DESCRIPTION:Hosté: Petra Nesvačilová a Roman Štabrňák. 
LOCATION:Hustopeče
END:VEVENT
END:VCALENDAR