BEGIN:VCALENDAR
VERSION:2.0
CALSCALE:GREGORIAN
PRODID:-//MyApp//Calendar 1.0//EN
BEGIN:VEVENT
METHOD:PUBLISH
UID:46003@regionalniportaly.cz
DTSTAMP:20260422T075024Z
DTSTART;VALUE=DATE:20241130
DTEND;VALUE=DATE:20241201
SUMMARY:Den otevřených sklepů v Pavlově - listopad 2024
DESCRIPTION:Zveme milovníky pálavských vín na tradiční „Den otevřených sklepů v Pavlově“&nbsp\;– sobota\, 30. listopadu 2024.K dispozici jsou 2 varianty vstupenek:1) bez večerní zábavy 400 Kč vstupné na otevřené sklepy (sklenička\, kontrolní páska\, katalog\, plátěná taška\, tužka\, volná degustace ve sklepích účastnících se akce)\; plus600 Kč – víceúčelové poukazy na nákup vín atd. - pouze ve sklepích\, účastnících se akce\,celkem tedy 1000 Kč.2) včetně večerní zábavy v KD se skupinou DenWer600 Kč vstupné na otevřené sklepy (sklenička\, kontrolní páska\, katalog\, plátěná taška\, tužka\, volná degustace ve sklepích účastnících se akce)\, včetně vstupu na večerní zábavu v Kulturním domě\; plus600 Kč – víceúčelové poukazy na nákup vín atd. - pouze ve sklepích\, účastnících se akcecelkem tedy 1200 Kč.Upozorňujeme\, že na var. 2 je omezený počet vstupenek a vstup na večerní zábavu nebude možno zakoupit samostatně.Kontrola on-line vstupenek a výdej identifikačních pásek\, skleniček\, katalogů a dalších bude probíhat v&nbsp\;sobotu\, 30. listopadu 2024\, od&nbsp\;10:00 do&nbsp\;15:00 a&nbsp\;také v&nbsp\;pátek\, 29. listopadu 2024\, od&nbsp\;18.00 do&nbsp\;20.00. Páteční termín registrace platí zejména pro ubytované v&nbsp\;Pavlově\, kteří si mohou v pátek večer v&nbsp\;klidu registrovat vstupenku a&nbsp\;v&nbsp\;sobotu ráno již nemusí na registrační místo a&nbsp\;mohou jít přímo do sklepů.On-line vstupenka se elektronicky odbaví a na základě toho obdrží návštěvník skleničku\, kontrolní pásku\, katalog a viceúčelové poukazy.Registrace bude probíhat na registračním místě&nbsp\;– Kulturní dům v Pavlově\, ul. Klentnická 120.Sklepy budou otevřeny v&nbsp\;rámci této akce v&nbsp\;sobotu\, 30. listopadu 2024\, od&nbsp\;11:00 do&nbsp\;18:00.Seznam sklepů a další informace naleznete na našem webu.
LOCATION:Pavlov
END:VEVENT
END:VCALENDAR