BEGIN:VCALENDAR
VERSION:2.0
CALSCALE:GREGORIAN
PRODID:-//MyApp//Calendar 1.0//EN
BEGIN:VEVENT
METHOD:PUBLISH
UID:45708@regionalniportaly.cz
DTSTAMP:20260422T081707Z
DTSTART;VALUE=DATE:20240921
DTEND;VALUE=DATE:20240922
SUMMARY:DJ Boris DISCO - Blučina
DESCRIPTION:Legendární akce DJ Boris&nbsp\;&nbsp\;v Blučině (Lidový dům)&nbsp\;Koná se v sobotu 21. září 2024 od 20:00 hod.&nbsp\;Po celou noc hity současné i minulé v originálních verzích\, které zaručeně znáte&nbsp\;Hudba různých žánrů - DISCO\, POP\, ROCK\, ČESKÉ a SLOVENSKÉ\, OSMDESÁTKY\, DEVADESÁTKY\, OLDIES...Zajištěno bohaté občerstvení včetně točeného piva a míchaných drinků.Kvalitní zvuk a světla\, laser show.Na Vaši bezpečnost bude dohlížet profesionální security služba.Otevřeno od 20:00 hod.Minimální věkový limit pro vstup: 16 letVstup: 150 KčAkci pořádá: Magic Events
LOCATION:Blučina
END:VEVENT
END:VCALENDAR