BEGIN:VCALENDAR
VERSION:2.0
CALSCALE:GREGORIAN
PRODID:-//MyApp//Calendar 1.0//EN
BEGIN:VEVENT
METHOD:PUBLISH
UID:45368@regionalniportaly.cz
DTSTAMP:20260422T082153Z
DTSTART;VALUE=DATE:20241013
DTEND;VALUE=DATE:20241014
SUMMARY:Na kouzelném paloučku
DESCRIPTION:Loutková revue s úžasnými efekty.Když zakokrhá kohout\, znamená to\, že začíná den. Sluníčko slíbí měsíčku\, že když už půjde spinkat\, bude mu pak vyprávět\, co se zatím „Na kouzelném paloučku“ odehrálo. Těší se na vás tančící slunečnice\, kamarádi žabáci Kvik a Kvak a neodolatelný „šoumen“ myšák Kiko\, který se vám rád předvede v plné parádě! Podíváte se také na rybičky pod hladinou\, proletíte se s papírovými draky široko-daleko a na palouček zavítají kamarádi Jů a Hele.\nÚčinkuje loutkoherecká skupina Loudadlo\, vstupné 180\,- Kč.
LOCATION:Hustopeče
END:VEVENT
END:VCALENDAR