BEGIN:VCALENDAR
VERSION:2.0
CALSCALE:GREGORIAN
PRODID:-//MyApp//Calendar 1.0//EN
BEGIN:VEVENT
METHOD:PUBLISH
UID:45364@regionalniportaly.cz
DTSTAMP:20260422T061236Z
DTSTART;VALUE=DATE:20241029
DTEND;VALUE=DATE:20241030
SUMMARY:Beseda s Josefem Klímou
DESCRIPTION:Autor populárního podcastu České podsvětí\, zakladatel investigativní žurnalistiky u nás Josef Klíma vypráví o divokých devadesátkách\, o tom\, jak se setkával s tehdejšími mocnými mafiány\, od Jonáka až po Krejčíře\, jak nebezpečné tehdy bylo být novinářem\, ale i tom\, jak se zločin mezitím proměnil. Odpovídá na otázky diváků\, které se mj. týkají i populárního seriálu Sedm schodů k moci (TV Prima)\, k němuž ho jako scénáristu volně inspiroval případ Nagyová–Nečas.\nVstupné v předprodeji 230\,- Kč\, na místě 300\,- Kč.
LOCATION:Hustopeče
END:VEVENT
END:VCALENDAR