BEGIN:VCALENDAR
VERSION:2.0
CALSCALE:GREGORIAN
PRODID:-//MyApp//Calendar 1.0//EN
BEGIN:VEVENT
METHOD:PUBLISH
UID:44841@regionalniportaly.cz
DTSTAMP:20260422T081855Z
DTSTART;VALUE=DATE:20240913
DTEND;VALUE=DATE:20240914
SUMMARY:Velkopavlovické vinobraní 2024
DESCRIPTION:Místní vinařská slavnost láká návštěvníky nejen na ochutnávku vín a burčáku\, ale také na zajímavý doprovodný program odvíjející se v duchu lidových tradic...&nbsp\;Tradice slavnostního velkopavlovického vinobraní se datuje od roku 1936.Pojetí s prvky připomínky horenských práv a zvýrazněním náboženské tradice začíná po roce 1990.Město Velké Pavlovice ve spolupráci s VOC Vinice Velké Pavlovice klade při pořádání akce důraz na propagaci místních vín a místních vinařství.Ochutnávka vín a burčáků probíhá v areálu Velkopavlovického vinobraní při kulturním programu\, který je zaměřen na vystoupení folklórních souborů a také skupin populární hudby.Ani v roce 2024 nebude chybět průvod krojované chasy městem\, kde jsou předvedeny místní lidové kroje.&nbsp\;
LOCATION:Velké Pavlovice
END:VEVENT
END:VCALENDAR