BEGIN:VCALENDAR
VERSION:2.0
CALSCALE:GREGORIAN
PRODID:-//MyApp//Calendar 1.0//EN
BEGIN:VEVENT
METHOD:PUBLISH
UID:44258@regionalniportaly.cz
DTSTAMP:20260422T070348Z
DTSTART;VALUE=DATE:20240823
DTEND;VALUE=DATE:20240824
SUMMARY:Divadlo 1+1=3
DESCRIPTION:Venkovní divadelní představení v prostorách nového Amfiteátru. \n \nZnámá situační komedie v podání Malého Divadla Komedie. John Brown je taxikář\, kterému se kvůli přísně dodržovanému harmonogramu daří léta utajovat skutečnost\, že má dvě manželky a že vede dvojí život. Jednoho dne se však John kvůli okolnostem dostane do nemocnice a na policii. Nepodaří se mu tak dodržet svůj časový harmonogram a rozjíždí se velký kolotoč lží\, do kterých se John stále více zamotává. Když se konečně rozhodne ke všemu přiznat a poprvé říká pravdu\, nikdo mu však nevěří.\n \nVstupné: 350\,- Kč v předprodeji\, 450\,- Kč na místě. Předprodej v TIC Hustopeče nebo online zde. \nPředstavení se hraje za každého počasí\, vstupné nevracíme\, v hledišti nejsou povoleny deštníky. 
LOCATION:Hustopeče
END:VEVENT
END:VCALENDAR