BEGIN:VCALENDAR
VERSION:2.0
CALSCALE:GREGORIAN
PRODID:-//MyApp//Calendar 1.0//EN
BEGIN:VEVENT
METHOD:PUBLISH
UID:44257@regionalniportaly.cz
DTSTAMP:20260422T070948Z
DTSTART;VALUE=DATE:20240706
DTEND;VALUE=DATE:20240721
SUMMARY:Promítání v Kině Hustopeče
DESCRIPTION:Aktuální promítání v Kině Hustopeče.
LOCATION:Hustopeče
END:VEVENT
END:VCALENDAR