BEGIN:VCALENDAR
VERSION:2.0
CALSCALE:GREGORIAN
PRODID:-//MyApp//Calendar 1.0//EN
BEGIN:VEVENT
METHOD:PUBLISH
UID:44256@regionalniportaly.cz
DTSTAMP:20260422T070855Z
DTSTART;VALUE=DATE:20240723
DTEND;VALUE=DATE:20240728
SUMMARY:Letní kino a Slavnostní otevření Amfiteátru
DESCRIPTION:I v letošním roce se můžete těšit na tradiční letní kino\, tentokrát ale v areálu nového Amfiteátru za Společenským domem (z ul. Herbenova 423/4). Od úterý 23. 7. do neděle 28. 7. se promítne po 21 hodině šest filmů. \n23.7. Wonka24.7. Aristokratka ve varu25.7. Prázdniny s broučkem26.7. Zápisník alkoholičky27.7. Jedeme na teambuilding28.7. Sladký život\nPrvní film Wonka bude promítán zdarma v rámci slavnostního otevření amfiteátru. Vstupné na další filmy je 100 Kč.
LOCATION:Hustopeče
END:VEVENT
END:VCALENDAR