BEGIN:VCALENDAR
VERSION:2.0
CALSCALE:GREGORIAN
PRODID:-//MyApp//Calendar 1.0//EN
BEGIN:VEVENT
METHOD:PUBLISH
UID:44255@regionalniportaly.cz
DTSTAMP:20260422T081733Z
DTSTART;VALUE=DATE:20241003
DTEND;VALUE=DATE:20241005
SUMMARY:Burčákové slavnosti
DESCRIPTION:Víte\, co jsou to mázhausy\, horenská rada\, perkmistr\, burčáková policie\, podzemní vojsko\, či Burčáková unie? Jakou hodnotu má platidlo zvané Búro? Už jste viděli obří kvasinku vinnou? Odpovědi najdete na Burčákových slavnostech v Hustopečích.\nRecesistická akce připomínající vinařskou historii města\, spousta zábavy\, soutěže\, ochutnávka burčáku v čele s purkmistrem a konšely města či jarmark. Třídenní oslavy sladkého bouřlivého moku provází nezaměnitelná dávka humoru a recese. To vše a mnoho dalšího přinese již 29. ročník oblíbených Burčákových slavností!\nA co vás čeká?\nČtvrteční program odstartují v 16:00 místní školky\, školy a spolky. V 19:00 zakončí program koncert. \nV pátek v 18:00 zazní uvítací fanfáry z radnice a od této chvíle bude téct burčák ve všech mázhausech proudem! Kromě toho se na vás na pódiu budou těšit Poetika a Richard Müller.\nSobota započne již od 9:00 středověkým jarmarkem. Následovat bude v 11:00 zasedání burčákové unie a ve 13:45 se městem projde historický průvod. Na pódiu pak zazní Docuku\, Barbora Poláková či No Name.\nV rámci Burčákových slavností se můžete těšit i na Národní soutěž vín Velkopavlovické podoblasti. Všechna přihlášená vína budou připravena k ochutnání v sobotu 5. 10. od 12:00 v hotelu Amande.
LOCATION:Hustopeče
END:VEVENT
END:VCALENDAR