BEGIN:VCALENDAR
VERSION:2.0
CALSCALE:GREGORIAN
PRODID:-//MyApp//Calendar 1.0//EN
BEGIN:VEVENT
METHOD:PUBLISH
UID:44217@regionalniportaly.cz
DTSTAMP:20260422T081845Z
DTSTART;VALUE=DATE:20241019
DTEND;VALUE=DATE:20241020
SUMMARY:Halloween pro děti
DESCRIPTION:Zveme všechny malé děti a také dospěláky na třetí ročník velké Halloweenské party pro děti\, která se uskuteční v sobotu 19.10. ve venkovním areálu na koupališti Města Židlochovice&nbsp\;Připraven máme opět bohatý program s velkou strašidelňáckou diskotékou\, na kterou dorazí 16 našich u dětí nejoblíbenější pohádkových postaviček ježek Sonic\,lev Alex\, myšák Micky s Minnie\, Goofy\, kocour Garfield\, drak Charli a také 4 kamarádi z Tlapkové patroly&nbsp\;A hlavně představíme naše úplně nové kamarády\, které nikde jinde než u nás neuvidíte a to Grinche\, Frankensteina\, panenku Wednesday a našeho bláznivého kostíka Rostíka :DA co nás ještě čeká:👻 Diskotéka s postavičkami v prostoru u bazénů👻 Spousta strašidelných dekorací👻 Velká terasa s posezením a barem👻 Procházka strašidelným hradem👻 Malování na obličej ... placené👻 Průlezková pirátská loď a dětské hřiště👻 dětská dvojlanovka👻 Ohniště s opékáním špekáčků👻 Skákací hrad a mini farma se zvířátky👻 Focení se strašidli v areálu👻 Strašidelný fotokoutek👻 Sněhová vánice👻 Soutěže o dárky👻 Soutěž o nejlepší masku/kostým👻 Obchůdek s dárečky👻 Občerstvení - (párky v rohlíku\, hranolky\, sladkosti a brambůrky\, teplé nápoje pro děti i dospělé)👻 ... a další překvápkaVSTUPNÉ:do 31.8. pouhých 80 Kč / osobado 30.9. 100 Kč / osobado 19.10 - 120 Kč / osobana místě 150 Kč / osobaděti do 1 roku vstup zdarmaAreál bude otevřen již od 14:30Hlavní program u bazénů startuje v 16:00Akci pořádá Diskoproděti ve spolupráci s Městem Židlochovice a koupalištěm Města Židlochovice ... těšíme se na všechny malé strašidla a bubáky 😃&nbsp\;Halloween pro děti | Facebook
LOCATION:Vojkovice
END:VEVENT
END:VCALENDAR