BEGIN:VCALENDAR
VERSION:2.0
CALSCALE:GREGORIAN
PRODID:-//MyApp//Calendar 1.0//EN
BEGIN:VEVENT
METHOD:PUBLISH
UID:44053@regionalniportaly.cz
DTSTAMP:20260422T064303Z
DTSTART;VALUE=DATE:20240817
DTEND;VALUE=DATE:20240818
SUMMARY:Na křídle motýla
DESCRIPTION:V sobotu 17. srpna 2024 v 19:00 se uskuteční jubilejní 10. ročník benefičního koncertu „Na křídle motýla“ s výtěžkem pro Nadační fond Kryštůfek www.krystufek.cz a to na návsi v jihomoravských Dolních Dunajovicích.\nÚčinkují: Jitka Smutná\, Marcela Březinová\, Martin France\, Sámer Issa\, Petr Batěk\, Tomáš Ringel\, Jan Vytásek\, Maja Rose a Natálka Neprašová. \nModeruje: Michaela Doležalová
LOCATION:Dolní Dunajovice
END:VEVENT
END:VCALENDAR