BEGIN:VCALENDAR
VERSION:2.0
CALSCALE:GREGORIAN
PRODID:-//MyApp//Calendar 1.0//EN
BEGIN:VEVENT
METHOD:PUBLISH
UID:43517@regionalniportaly.cz
DTSTAMP:20260422T070830Z
DTSTART;VALUE=DATE:20240629
DTEND;VALUE=DATE:20240630
SUMMARY:Sladký život - Letní kino
DESCRIPTION:
LOCATION:Nikolčice
END:VEVENT
END:VCALENDAR