BEGIN:VCALENDAR
VERSION:2.0
CALSCALE:GREGORIAN
PRODID:-//MyApp//Calendar 1.0//EN
BEGIN:VEVENT
METHOD:PUBLISH
UID:42909@regionalniportaly.cz
DTSTAMP:20260422T081400Z
DTSTART;VALUE=DATE:20240906
DTEND;VALUE=DATE:20240907
SUMMARY:REFEW
DESCRIPTION:Český rapper REFEW vystoupí premiérově v Retro Clubu. Pojď si užít jeho našlapanou show s námi!&nbsp\;Za mixem DJ LUKE
LOCATION:Zaječí
END:VEVENT
END:VCALENDAR